BEGIN:VCALENDAR
VERSION:2.0
PRODID:-//Urban Milwaukee - ECPv4.6.9//NONSGML v1.0//EN
CALSCALE:GREGORIAN
METHOD:PUBLISH
X-WR-CALNAME:Urban Milwaukee
X-ORIGINAL-URL:https://urbanmilwaukee.com
X-WR-CALDESC:Events for Urban Milwaukee
BEGIN:VEVENT
DTSTART;TZID=America/Chicago:20260116T193000
DTEND;TZID=America/Chicago:20260116T220000
DTSTAMP:20260425T012256
CREATED:20251209T102549Z
LAST-MODIFIED:20251209T102549Z
UID:926392-1768591800-1768600800@urbanmilwaukee.com
SUMMARY:Honky Tonk Angels
DESCRIPTION:YeeHaww! When three gutsy gals from different backgrounds take charge of their lives\, they decide to follow their honky tonk dreams all the way to the city of Nashville. Combining 30 classic country tunes (including “Stand By Your Man\,” “9 to 5\,” “Harper Valley PTA” and more!) Honky Tonk Angels is a hilarious\, foot-stomping good time. \n
URL:https://urbanmilwaukee.com/event/honky-tonk-angels-3/
LOCATION:19700 W. Bluemound Rd.\, Brookfield\, WI\, 53045\, United States
CATEGORIES:Arts & Entertainment
ATTACH;FMTTYPE=image/jpeg:https://urbanmilwaukee.com/wp-content/uploads/2025/12/9RKcbq14EEym04VhqSmUVw.large_.jpg
END:VEVENT
END:VCALENDAR