BEGIN:VCALENDAR
VERSION:2.0
PRODID:-//Urban Milwaukee - ECPv4.6.9//NONSGML v1.0//EN
CALSCALE:GREGORIAN
METHOD:PUBLISH
X-WR-CALNAME:Urban Milwaukee
X-ORIGINAL-URL:https://urbanmilwaukee.com
X-WR-CALDESC:Events for Urban Milwaukee
BEGIN:VEVENT
DTSTART;TZID=America/Chicago:20171015T100000
DTEND;TZID=America/Chicago:20171015T170000
DTSTAMP:20260423T202719
CREATED:20170617T165419Z
LAST-MODIFIED:20170617T165419Z
UID:365983-1508061600-1508086800@urbanmilwaukee.com
SUMMARY:Home & Remodeling Show
DESCRIPTION:The Home & Remodeling Show is a vital resource in considering your next home improvement project! This show features hundreds of reputable NARI Member home improvement professionals showcasing products and information related to improvement and maintenance of the interior or exterior of the home. Whether it’s an addition\, kitchen or bathroom renovation or home maintenance needs of a new roof\, windows\, siding\, gutters or more\, it’s all available at the Home & Remodeling Show. \nHave a one-on-one conversation to address your questions\, or gather\ninspiration to decide on your home improvement or maintenance plans. \nThis show is a complete consumer experience with engaging seminars\, interactive spaces\, ideas for the holidays and more! \n
URL:https://urbanmilwaukee.com/event/home-remodeling-show-3/
ATTACH;FMTTYPE=image/png:https://urbanmilwaukee.com/wp-content/uploads/2017/06/6jeBMNLB0POYHAGsZo9zOrZEmcceOzZ70DLvaO8-2.png
END:VEVENT
END:VCALENDAR