BEGIN:VCALENDAR
VERSION:2.0
PRODID:-//Urban Milwaukee - ECPv4.6.9//NONSGML v1.0//EN
CALSCALE:GREGORIAN
METHOD:PUBLISH
X-WR-CALNAME:Urban Milwaukee
X-ORIGINAL-URL:https://urbanmilwaukee.com
X-WR-CALDESC:Events for Urban Milwaukee
BEGIN:VEVENT
DTSTART;TZID=America/Chicago:20151210T140000
DTEND;TZID=America/Chicago:20151210T190000
DTSTAMP:20260424T171004
CREATED:20151207T225116Z
LAST-MODIFIED:20151207T225116Z
UID:148358-1449756000-1449774000@urbanmilwaukee.com
SUMMARY:Holiday Health Insurance Open House
DESCRIPTION:For people who are uninsured or need to re-enroll in the Marketplace\, two open houses on December 10 will provide free\, confidential help shopping for affordable health care coverage. In Milwaukee\, 9 out of 10 people receive financial assistance for Marketplace coverage. The Health Insurance Open House will be on Thursday\, December 10 from 2 pm to 7 pm at Aurora Family Services\, 3200 W. Highland Boulevard and Walker’s Point Community Clinic\, 130 Bruce Street. \n
URL:https://urbanmilwaukee.com/event/holiday-health-insurance-open-house-3/
LOCATION:130 W. Bruce St.\, Milwaukee\, WI\, 53204\, United States
ATTACH;FMTTYPE=image/png:https://urbanmilwaukee.com/wp-content/uploads/2015/12/MKEN_logo_267-CMYK_tagline_web1.png
END:VEVENT
END:VCALENDAR