BEGIN:VCALENDAR
VERSION:2.0
PRODID:-//Urban Milwaukee - ECPv4.6.9//NONSGML v1.0//EN
CALSCALE:GREGORIAN
METHOD:PUBLISH
X-WR-CALNAME:Urban Milwaukee
X-ORIGINAL-URL:https://urbanmilwaukee.com
X-WR-CALDESC:Events for Urban Milwaukee
BEGIN:VEVENT
DTSTART;TZID=America/Chicago:20191116T090000
DTEND;TZID=America/Chicago:20191116T160000
DTSTAMP:20260423T000756
CREATED:20191114T232445Z
LAST-MODIFIED:20191114T232445Z
UID:483225-1573894800-1573920000@urbanmilwaukee.com
SUMMARY:Highland Art Bazaar and Craft Fair
DESCRIPTION:Begin your holiday season at one of the premier holiday art fairs of the region: Highland Community School’s 6th Highland Community School Art Bazaar and Craft Market. \nThe festival opens its doors to the public at 9 a.m. Visitors will enjoy a wide selection of unique art and gifts from local and regional artists. Stroll through the school for one-of-a-kind handmade toys\, clothes\, paintings\, sculptures\, jewelry\, ceramics\, woodcrafts\, apothecary and other art and gift ideas. Artist demonstrations by Michael Westcott. \nThere will also be fresh-baked goods and coffee at the HCS Café and café lunches for purchase by the Café. \nFree admission\, good will donations will be directed to Highland Community School. \nTo see the list of vendors participating in this event\, please visit the Holiday Art Bazaar’s web page as it will be continuously updated with current information: https://www.highlandcommunityschool.org/artbazaar/ \n
URL:https://urbanmilwaukee.com/event/highland-art-bazaar-and-craft-fair/
LOCATION:1706 W. Highland Blvd.\, Milwaukee\, WI\, 53233\, United States
CATEGORIES:Arts & Entertainment
ATTACH;FMTTYPE=image/jpeg:https://urbanmilwaukee.com/wp-content/uploads/2019/11/Postcard-2019.jpg
END:VEVENT
END:VCALENDAR