BEGIN:VCALENDAR
VERSION:2.0
PRODID:-//Urban Milwaukee - ECPv4.6.9//NONSGML v1.0//EN
CALSCALE:GREGORIAN
METHOD:PUBLISH
X-WR-CALNAME:Urban Milwaukee
X-ORIGINAL-URL:https://urbanmilwaukee.com
X-WR-CALDESC:Events for Urban Milwaukee
BEGIN:VEVENT
DTSTART;TZID=America/Chicago:20190508T173000
DTEND;TZID=America/Chicago:20190508T190000
DTSTAMP:20260420T085725
CREATED:20190312T121511Z
LAST-MODIFIED:20190312T121511Z
UID:443810-1557336600-1557342000@urbanmilwaukee.com
SUMMARY:Healthy Cooking Demonstrations
DESCRIPTION:Learn how to make tasty\, organic\, and gluten-free baked goods with Susie Roberts\, owner of KalyANa Organics. Work with local chefs and make reasonably-priced\, nutritious meals at our Healthy Cooking Community Demonstration series. Remember\, tasting the dishes is a key component of the lessons! \nTickets: For adults and teens | Program Cost: $21 | Member discount: $15 | Price break: $10 \n
URL:https://urbanmilwaukee.com/event/healthy-cooking-demonstrations/
LOCATION:1859 N. 40th St.\, Milwaukee\, WI\, 53208\, United States
CATEGORIES:Food & Drink
ATTACH;FMTTYPE=image/jpeg:https://urbanmilwaukee.com/wp-content/uploads/2019/03/greta-punch-62508-unsplash.jpg
END:VEVENT
END:VCALENDAR