BEGIN:VCALENDAR
VERSION:2.0
PRODID:-//Urban Milwaukee - ECPv4.6.9//NONSGML v1.0//EN
CALSCALE:GREGORIAN
METHOD:PUBLISH
X-WR-CALNAME:Urban Milwaukee
X-ORIGINAL-URL:https://urbanmilwaukee.com
X-WR-CALDESC:Events for Urban Milwaukee
BEGIN:VEVENT
DTSTART;TZID=America/Chicago:20151210T180000
DTEND;TZID=America/Chicago:20151210T210000
DTSTAMP:20260424T181631
CREATED:20160119T153148Z
LAST-MODIFIED:20160119T153148Z
UID:148810-1449770400-1449781200@urbanmilwaukee.com
SUMMARY:Haute For The Holidays
DESCRIPTION:Milwaukee\, WI December 09\, 2015 – World-renowned bridal dress designer\, Angel Rivera\, will premier his Spring 2016\ncollection in Milwaukee\, Wisconsin on December 10\, 2015 at White Dress Bridal Boutique’s Haute For The Holidays event\,\ngiving local brides-to-be an opportunity to experience his exclusive runway show. \n● Runway show will feature 20+ brand new bridal dresses showcasing the latest trends in fashion\n● Show is being produced locally- everything from the models to the music is sourced locally\n● Haute For The Holidays guests will have a rare opportunity to meet the designer\, receive a personally signed dress\nsketch from Angel Rivera\, and receive 10% off their purchase of an Angel Rivera gown 12/10 – 12/13. \nAngel Rivera was born in Mayaguez\, Puerto Rico\, and moved to Ohio at the age of two. After receiving his degree in Fashion\nStudies at Youngstown State University\, Angel moved to New York in pursuit of a career in fashion. Since then\, Angel has\nworked with the industry’s top bridal fashion houses. “A wedding dress is the most important garment a woman will ever\nwear\, and one that she will always remember and treasure\,” says Angel. His dress designs combine luxurious silks with\ncouture construction to create ultra-feminine pieces layered with nostalgia\, charm and luxury; a distinctive look for which\nthe designer has become known. “I am looking forward to presenting my Spring 2016 collection at White Dress Bridal\nBoutique and working directly with Milwaukee brides to find their perfect dress!”\, says Rivera. \nWhite Dress Bridal Boutique opened in Milwaukee’s Fifth Ward in August 2015. Since opening the doors\, owner\, Christina\nWegner\, has built market exclusive relationships with over a dozen industry juggernauts including Angel Rivera\, Antonio\nGual\, and Romona Keveza among others. She says this time of year is particularly special\, not just for her\, but for the\nwedding industry. “This time of year brings families together in celebration of love and joy. For many couples\, that includes\nengagement – the start of every bride’s journey from Miss to Mrs!” Christina also has fond memories of the holidays\ngrowing up which have inspired her to transform the boutique into a winter wonderland for all to enjoy! “I remember\nwalking with my Papa at a very young age and looking at the Marshall Fields windows on State Street. I was in such awe of\nthe windows – I could just feel the magic of the season! Creating this same magic at the boutique is a fantastic opportunity\nto work with other area small businesses who have an interest in giving brides throughout the Midwest an unforgettable\nexperience.” \nWhite Dress Bridal Boutique’s holiday window display is viewable through January 5\, 2016. \nBrides who wish to attend the Haute For The Holidays event are encouraged to call White Dress Bridal Boutique directly\nfor details: 414-897-7208. Space is limited. \n
URL:https://urbanmilwaukee.com/event/haute-for-the-holidays/
LOCATION:237 E. Pittsburgh Ave.\, Milwaukee\, WI\, 53204\, United States
CATEGORIES:Arts & Entertainment
ATTACH;FMTTYPE=image/png:https://urbanmilwaukee.com/wp-content/uploads/2015/12/Untitled-drawing.png
END:VEVENT
END:VCALENDAR