BEGIN:VCALENDAR
VERSION:2.0
PRODID:-//Urban Milwaukee - ECPv4.6.9//NONSGML v1.0//EN
CALSCALE:GREGORIAN
METHOD:PUBLISH
X-WR-CALNAME:Urban Milwaukee
X-ORIGINAL-URL:https://urbanmilwaukee.com
X-WR-CALDESC:Events for Urban Milwaukee
BEGIN:VEVENT
DTSTART;TZID=America/Chicago:20200926T183000
DTEND;TZID=America/Chicago:20200926T210000
DTSTAMP:20260419T200802
CREATED:20200910T191404Z
LAST-MODIFIED:20200910T191404Z
UID:543007-1601145000-1601154000@urbanmilwaukee.com
SUMMARY:Haunted History Pub Crawl Tour (21+)
DESCRIPTION:Hop on the MKE Cruiser for the Haunted History Pub Crawl Tour and join us as your guide invites you back in time to walk the footsteps of the city’s most acclaimed haunted locations. Along with our eerie tales\, we will be telling you about the great history of Milwaukee. \nWe will work with divining rods and Ghost Meters. Ticket price includes 2 Drinks and a light up glass. \nWe visit 3 Pubs and a Park. \nMasks required-City and State Mandate \n***Reservations Required*** \n
URL:https://urbanmilwaukee.com/event/haunted-history-pub-crawl-tour-21-2/
CATEGORIES:Food & Drink
ATTACH;FMTTYPE=image/jpeg:https://urbanmilwaukee.com/wp-content/uploads/2019/12/IMG_0733_sabatc.jpg
END:VEVENT
END:VCALENDAR