BEGIN:VCALENDAR
VERSION:2.0
PRODID:-//Urban Milwaukee - ECPv4.6.9//NONSGML v1.0//EN
CALSCALE:GREGORIAN
METHOD:PUBLISH
X-WR-CALNAME:Urban Milwaukee
X-ORIGINAL-URL:https://urbanmilwaukee.com
X-WR-CALDESC:Events for Urban Milwaukee
BEGIN:VEVENT
DTSTART;TZID=America/Chicago:20181214T193000
DTEND;TZID=America/Chicago:20181214T193000
DTSTAMP:20260425T152455
CREATED:20180913T111527Z
LAST-MODIFIED:20180913T111527Z
UID:409415-1544815800-1544815800@urbanmilwaukee.com
SUMMARY:Harmonious Wail
DESCRIPTION:Ring in the holiday season gypsy-style with Madison’s Harmonious Wail! Richly influenced by European gypsy musicians\, the Wail blends an eclectic array of styles – Django Reinhardt inspired jazz\, Eastern European gypsy swing\, American jazz standards\, and contemporary folk – to create their own distinctive sound. The intoxicating vocals\, enticing arrangements\, and sheer joy that Sims Delaney Potthoff\, Maggie Delaney Potthoff (a Hartford native!)\, and Jeffo Weiss bring to every performance is downright addictive. \n  \n
URL:https://urbanmilwaukee.com/event/harmonious-wail/
LOCATION:147 N. Rural St.\, Hartford\, WI\, 53027\, United States
CATEGORIES:Arts & Entertainment
ATTACH;FMTTYPE=image/jpeg:https://urbanmilwaukee.com/wp-content/uploads/2018/06/wail-1440.jpg
END:VEVENT
END:VCALENDAR