BEGIN:VCALENDAR
VERSION:2.0
PRODID:-//Urban Milwaukee - ECPv4.6.9//NONSGML v1.0//EN
CALSCALE:GREGORIAN
METHOD:PUBLISH
X-WR-CALNAME:Urban Milwaukee
X-ORIGINAL-URL:https://urbanmilwaukee.com
X-WR-CALDESC:Events for Urban Milwaukee
BEGIN:VEVENT
DTSTART;TZID=America/Chicago:20190427T120000
DTEND;TZID=America/Chicago:20190427T160000
DTSTAMP:20260421T235704
CREATED:20190219T222414Z
LAST-MODIFIED:20190219T222414Z
UID:442154-1556366400-1556380800@urbanmilwaukee.com
SUMMARY:Hands-on Workshop at the Grohmann Museum
DESCRIPTION:Join us for a special Gallery Day event! To celebrate the closing of “Growing Place: A Visual Study of Urban Farming\,” Community Building and Restoration\, Community Roofing\, and Groundwork Milwaukee are hosting a hands-on\, learn-to-build day of teaching and sharing at MSOE’s Grohmann Museum. Bring yourself and your kids and learn basic carpentry skills\, tool use\, and food growing\, all while re-imagining your expectations for yourself and what you can do with your hands. \nProjects to include vertical garden planters\, tool boxes\, bird houses\, and “little free libraries\,” as well as a full-sized wooden canoe to be raffled off at the end of the day. \nThis is a free event\, no experience is required\, and projects will be geared towards patrons of all ages. \n
URL:https://urbanmilwaukee.com/event/hands-on-workshop-at-the-grohmann-museum/
LOCATION:1000 N. Broadway\, Milwaukee\, WI\, 53202\, United States
CATEGORIES:Arts & Entertainment
ATTACH;FMTTYPE=image/jpeg:https://urbanmilwaukee.com/wp-content/uploads/2019/02/rooftop.jpg
END:VEVENT
END:VCALENDAR