BEGIN:VCALENDAR
VERSION:2.0
PRODID:-//Urban Milwaukee - ECPv4.6.9//NONSGML v1.0//EN
CALSCALE:GREGORIAN
METHOD:PUBLISH
X-WR-CALNAME:Urban Milwaukee
X-ORIGINAL-URL:https://urbanmilwaukee.com
X-WR-CALDESC:Events for Urban Milwaukee
BEGIN:VEVENT
DTSTART;TZID=America/Chicago:20160915T160000
DTEND;TZID=America/Chicago:20160915T190000
DTSTAMP:20260424T042930
CREATED:20160828T134111Z
LAST-MODIFIED:20160828T134111Z
UID:179516-1473955200-1473966000@urbanmilwaukee.com
SUMMARY:Guest House of Milwaukee Open House & Harvest Fest
DESCRIPTION:In celebration of the completion of our renovation and expansion project\, as well as the achievements of our 2016 growing season of our Cream City Garden\, we invite the community to join us for tours of the building and a complimentary meal in our garden. Tours begin at 4:00 p.m.\, brief program at 5:00 p.m.\, dinner to follow program. \nQuestions? Contact Amy Rowell at amy@guesthouseofmilwaukee.org or 414-316-2025 \n
URL:https://urbanmilwaukee.com/event/guest-house-of-milwaukee-open-house-harvest-fest/
CATEGORIES:Food & Drink
ATTACH;FMTTYPE=image/jpeg:https://urbanmilwaukee.com/wp-content/uploads/2016/08/OH-HF-Youre-invited.jpg
END:VEVENT
END:VCALENDAR