BEGIN:VCALENDAR
VERSION:2.0
PRODID:-//Urban Milwaukee - ECPv4.6.9//NONSGML v1.0//EN
CALSCALE:GREGORIAN
METHOD:PUBLISH
X-WR-CALNAME:Urban Milwaukee
X-ORIGINAL-URL:https://urbanmilwaukee.com
X-WR-CALDESC:Events for Urban Milwaukee
BEGIN:VEVENT
DTSTART;TZID=America/Chicago:20190712T173000
DTEND;TZID=America/Chicago:20190712T210000
DTSTAMP:20260421T192320
CREATED:20190616T155524Z
LAST-MODIFIED:20190616T155524Z
UID:459860-1562952600-1562965200@urbanmilwaukee.com
SUMMARY:Grown Up Summer Camp
DESCRIPTION:Summer Camp isn’t just for kids! Here’s an evening of summer camp fun… with a twist! Rock climbing\, paddling\, campfire s’mores\, plus a beer tasting and education station with New Belgium Brewing Company beer. Must be 21 or older in order to participate. Registration starts at 5:30 p.m. and camp officially starts at 6 p.m.! \nFor adults ages 21 or older | Program Cost: $40 | Member Discount: $30 | Price Break: $20 \n
URL:https://urbanmilwaukee.com/event/grown-up-summer-camp/
LOCATION:1500 E. Park Pl\, Milwaukee\, WI\, 53211\, United States
CATEGORIES:Arts & Entertainment
ATTACH;FMTTYPE=image/jpeg:https://urbanmilwaukee.com/wp-content/uploads/2019/06/IMG_5333.jpg
END:VEVENT
END:VCALENDAR