BEGIN:VCALENDAR
VERSION:2.0
PRODID:-//Urban Milwaukee - ECPv4.6.9//NONSGML v1.0//EN
CALSCALE:GREGORIAN
METHOD:PUBLISH
X-WR-CALNAME:Urban Milwaukee
X-ORIGINAL-URL:https://urbanmilwaukee.com
X-WR-CALDESC:Events for Urban Milwaukee
BEGIN:VEVENT
DTSTART;TZID=America/Chicago:20171014T150000
DTEND;TZID=America/Chicago:20171014T170000
DTSTAMP:20260423T191418
CREATED:20170925T130649Z
LAST-MODIFIED:20170925T130649Z
UID:376391-1507993200-1508000400@urbanmilwaukee.com
SUMMARY:Great Amazing Race
DESCRIPTION:SIGN UP NOW … An Exciting Family-Friendly Adventure Run/Walk for Adult & Kids ~ Donate Sneakers for Cancer!\nOfficial website: www.GreatAmazingRace.com \nIt’s all about TEAMWORK! Since 2012\, this fun race features teams of two people racing in competition with other similar age teams. Contestants are directed to perform a variety of mental & physical challenges (together) at multiple stops along the 1.5 mile course. How well you work together is the most important skill to winning the race.\nWalk\, jog or run – yet be prepared to get a little dirty & wet. It’s a great bonding experience and way more fun than a 5K race! Waves begin every 10 minutes – kids teams\, then adult teams. \nRACE INFO\n1. Open to all ages – pee wees to grandparents.\n2. 2 person teams – adult/adult\, adult/kid or kid/kid … kids grades K-12..\n3. 2 course levels … recreation (for leisure pace teams) & competitive (for physically active teams).\n4. 4 race divisions … Grades K-2 / 3-5 / 6-8 / 9-Adult.\n5. 1st place medals are awarded to each division winner.\n6. Plan on 60 minutes to complete course … race happens rain or shine. \nPEDIATRIC CANCER CHARITY PARTNER: Help us fight pediatric cancer by donating 2 pairs of used sneakers or running shoes at the race … and receive a 2 minute time eraser token. \nSHARE THIS EVENT: Share with 8+ people on social media or email … and receive a free GAR Backpack ($15 value). … (Example: “We are doing The Great Amazing Race. Join us and we both get free GAR backpacks.”) \n
URL:https://urbanmilwaukee.com/event/great-amazing-race/
CATEGORIES:Arts & Entertainment
ATTACH;FMTTYPE=image/jpeg:https://urbanmilwaukee.com/wp-content/uploads/2017/09/Great-amazing-race-15b-1.jpg
END:VEVENT
END:VCALENDAR