BEGIN:VCALENDAR
VERSION:2.0
PRODID:-//Urban Milwaukee - ECPv4.6.9//NONSGML v1.0//EN
CALSCALE:GREGORIAN
METHOD:PUBLISH
X-WR-CALNAME:Urban Milwaukee
X-ORIGINAL-URL:https://urbanmilwaukee.com
X-WR-CALDESC:Events for Urban Milwaukee
BEGIN:VEVENT
DTSTART;TZID=America/Chicago:20251214T140000
DTEND;TZID=America/Chicago:20251214T153000
DTSTAMP:20260425T172912
CREATED:20251125T175001Z
LAST-MODIFIED:20251125T175001Z
UID:922645-1765720800-1765726200@urbanmilwaukee.com
SUMMARY:GRATIA
DESCRIPTION:During the busy holiday season\, step into the calm and serenity of GRATIA—a performance honoring Mary\, the radiant heart of the Christmas story. APERI will present timeless works by Tallis\, Joaquin\, Britten\, and others to uplift the soul and fill the winter night with peace. Free parking is available at the Lincoln Center for the Arts. \nUnder the direction of Dr. Paul Thompson\, the professional vocal early music ensemble APERI ANIMAM has quickly drawn the attention of early music enthusiasts and organizations across the United States. From its founding in 2017 by performer-scholar Daniel Koplitz (dir. 2017–21)\, APERI ANIMAM has been praised for its ensemble precision\, full-throated vocals\, emotional expressivity\, and innovative programming. \n
URL:https://urbanmilwaukee.com/event/gratia-3/
LOCATION:818 E Juneau Ave\, Milwaukee\, WI\, 53202\, United States
CATEGORIES:Arts & Entertainment
END:VEVENT
END:VCALENDAR