BEGIN:VCALENDAR
VERSION:2.0
PRODID:-//Urban Milwaukee - ECPv4.6.9//NONSGML v1.0//EN
CALSCALE:GREGORIAN
METHOD:PUBLISH
X-WR-CALNAME:Urban Milwaukee
X-ORIGINAL-URL:https://urbanmilwaukee.com
X-WR-CALDESC:Events for Urban Milwaukee
BEGIN:VEVENT
DTSTART;TZID=America/Chicago:20160924T100000
DTEND;TZID=America/Chicago:20160924T140000
DTSTAMP:20260425T175746
CREATED:20160902T043252Z
LAST-MODIFIED:20160902T043252Z
UID:182783-1474711200-1474725600@urbanmilwaukee.com
SUMMARY:Girl Scouts’ Day of Play Offers Family Fun
DESCRIPTION:Girl Scouts of Wisconsin Southeast invites families to kick\, swing\, hula\, and blast…into Nickelodeon’s Worldwide Day of Play. Get up\, get active\, and transform yourself into a moving machine! Activities will include rock climbing\, an inflatable obstacle course\, bean bag toss\, dancing\, face painting\, soccer\, basketball\, and a create-your-own healthy snack station. \nNot a Girl Scout? Not a problem. Just bring your family\, and we’ll provide the fun. And you get to learn first-hand how Girl Scouts is a place to try new things and be yourself. Event is free and open to the public. Learn more at www.gswise.org. \nQuestions? Contact CustomerCare@gswise.org or 800-565-4475. \n
URL:https://urbanmilwaukee.com/event/girl-scouts-day-of-play-offers-family-fun/
ATTACH;FMTTYPE=image/png:https://urbanmilwaukee.com/wp-content/uploads/2016/08/holton-center-cropped-fb-ad.png
END:VEVENT
END:VCALENDAR