BEGIN:VCALENDAR
VERSION:2.0
PRODID:-//Urban Milwaukee - ECPv4.6.9//NONSGML v1.0//EN
CALSCALE:GREGORIAN
METHOD:PUBLISH
X-WR-CALNAME:Urban Milwaukee
X-ORIGINAL-URL:https://urbanmilwaukee.com
X-WR-CALDESC:Events for Urban Milwaukee
BEGIN:VEVENT
DTSTART;TZID=America/Chicago:20230107T100000
DTEND;TZID=America/Chicago:20230107T110000
DTSTAMP:20260419T130439
CREATED:20230104T071727Z
LAST-MODIFIED:20230104T071727Z
UID:694915-1673085600-1673089200@urbanmilwaukee.com
SUMMARY:Gentle Flow Yoga
DESCRIPTION:(For adults) Gentle Yoga Flow is a session brought to you by yoga instructor Parisa. Parisa incorporates yoga and sound healing. New to yoga? This session is for you. We welcome folks with all kinds of yoga experience\, especially beginners. \nGentle Yoga Flow will have participants also feeling a sense of belonging\, relaxation\, and community. \nWe ask you to bring a yoga mat/blanket\, a water bottle – the center will provide these if you do not have them (while supplies last). We also ask that participants check with their doctor if they are pregnant and/or if you have a pacemaker – the session includes the use of sound. \nFor questions about this program\, please contact Menomonee Valley Neighborhood Engagement Specialist\, Denise Manjarrez-Renteria\, at dmanjarrezrenteria@urbanecologycenter.org. \nRegistration is required for this event. \n
URL:https://urbanmilwaukee.com/event/gentle-flow-yoga/
LOCATION:3700 W. Pierce St.\, Milwaukee\, WI
CATEGORIES:Arts & Entertainment
ATTACH;FMTTYPE=image/jpeg:https://urbanmilwaukee.com/wp-content/uploads/2022/12/319638789_1192555588296070_3278504036805332910_n.jpg
END:VEVENT
END:VCALENDAR