BEGIN:VCALENDAR
VERSION:2.0
PRODID:-//Urban Milwaukee - ECPv4.6.9//NONSGML v1.0//EN
CALSCALE:GREGORIAN
METHOD:PUBLISH
X-WR-CALNAME:Urban Milwaukee
X-ORIGINAL-URL:https://urbanmilwaukee.com
X-WR-CALDESC:Events for Urban Milwaukee
BEGIN:VEVENT
DTSTART;TZID=America/Chicago:20190504T100000
DTEND;TZID=America/Chicago:20190505T170000
DTSTAMP:20260420T223816
CREATED:20190406T144232Z
LAST-MODIFIED:20190406T144232Z
UID:447275-1556964000-1557075600@urbanmilwaukee.com
SUMMARY:Geekcraft Expo Milwaukee 2019
DESCRIPTION:May the 4th be with you! Etsy meets Comic Con at this curated market featuring handmade geek goods by local crafters and makers. Family-friendly with free geeky craft activities for kids! \nPre-register now to attend for FREE! \n
URL:https://urbanmilwaukee.com/event/geekcraft-expo-milwaukee-2019/
LOCATION:1034 N. 4th St.\, Milwaukee\, WI\, 53203\, United States
CATEGORIES:Arts & Entertainment
ATTACH;FMTTYPE=image/jpeg:https://urbanmilwaukee.com/wp-content/uploads/2019/03/1-1.jpg
END:VEVENT
END:VCALENDAR