BEGIN:VCALENDAR
VERSION:2.0
PRODID:-//Urban Milwaukee - ECPv4.6.9//NONSGML v1.0//EN
CALSCALE:GREGORIAN
METHOD:PUBLISH
X-WR-CALNAME:Urban Milwaukee
X-ORIGINAL-URL:https://urbanmilwaukee.com
X-WR-CALDESC:Events for Urban Milwaukee
BEGIN:VEVENT
DTSTART;TZID=America/Chicago:20190720T120000
DTEND;TZID=America/Chicago:20190720T160000
DTSTAMP:20260423T163058
CREATED:20190710T050536Z
LAST-MODIFIED:20190710T050536Z
UID:463505-1563624000-1563638400@urbanmilwaukee.com
SUMMARY:Gallery Day with Chagall’s Le Cirque
DESCRIPTION:Be part of a rare opportunity to experience Marc Chagall’s legendary Le Cirque portfolio on Gallery Day! Iconic attributes of Chagall’s creations – his quintessential use of vivid color\, dreamlike composition and fanciful characters – befittingly capture his lure to the circus and its emblematic encapsulation of the human condition. \n‘For me\, a circus is a magic show that appears and disappears like a world. These clowns\, bareback riders and acrobats have made themselves at home in my visions. Why? Why am I so touched by their make-up and their grimaces? With them I can move towards new horizons.’ –Marc Chagall \nLe Cirque summons the spectacle of the circus experience in all its colorful variety — clowns\, acrobats and women riding bareback\, stands brimming with onlookers – and consists of 23 color and 15 black-and-white lithographs published in 1967 by Tériade Éditions. The whimsical prints will be accompanied by a display that explores Wisconsin’s grand circus history\, and celebrates the tradition of Milwaukee’s Great Circus Parade. \nADMISSION Adults – $7.00 Seniors (60+) – $6.00 Students (with ID) – $4.00 Disabled Visitors (with ID*) – $4.00 Museum Members – FREE Children (6 and under) – FREE Active Duty Military – FREE \n
URL:https://urbanmilwaukee.com/event/gallery-day-with-chagalls-le-cirque/
LOCATION:1360 N. Prospect Ave.\, Milwaukee\, WI\, 53202\, United States
CATEGORIES:Arts & Entertainment
ATTACH;FMTTYPE=image/jpeg:https://urbanmilwaukee.com/wp-content/uploads/2019/07/Chagall-1.jpg
END:VEVENT
END:VCALENDAR