BEGIN:VCALENDAR
VERSION:2.0
PRODID:-//Urban Milwaukee - ECPv4.6.9//NONSGML v1.0//EN
CALSCALE:GREGORIAN
METHOD:PUBLISH
X-WR-CALNAME:Urban Milwaukee
X-ORIGINAL-URL:https://urbanmilwaukee.com
X-WR-CALDESC:Events for Urban Milwaukee
BEGIN:VEVENT
DTSTART;TZID=America/Chicago:20171014T100000
DTEND;TZID=America/Chicago:20171014T150000
DTSTAMP:20260423T174915
CREATED:20170928T153331Z
LAST-MODIFIED:20170928T153331Z
UID:376650-1507975200-1507993200@urbanmilwaukee.com
SUMMARY:Fungi Fair presented by the Wisconsin Mycological Society
DESCRIPTION:Learn about the exciting world of mycology\, fungi and mushrooms. Short lectures\, mushroom cooking demos\, short local forays\, mycological specimens and much more. Purchase Chaga and Reishi mushrooms and enjoy! \n
URL:https://urbanmilwaukee.com/event/fungi-fair-presented-by-the-wisconsin-mycological-society/
LOCATION:1500 E. Park Pl\, Milwaukee\, WI\, 53211\, United States
CATEGORIES:Food & Drink
ATTACH;FMTTYPE=image/jpeg:https://urbanmilwaukee.com/wp-content/uploads/2017/09/fungi-1.jpg
END:VEVENT
END:VCALENDAR