BEGIN:VCALENDAR
VERSION:2.0
PRODID:-//Urban Milwaukee - ECPv4.6.9//NONSGML v1.0//EN
CALSCALE:GREGORIAN
METHOD:PUBLISH
X-WR-CALNAME:Urban Milwaukee
X-ORIGINAL-URL:https://urbanmilwaukee.com
X-WR-CALDESC:Events for Urban Milwaukee
BEGIN:VEVENT
DTSTART;TZID=America/Chicago:20180324T130000
DTEND;TZID=America/Chicago:20180324T150000
DTSTAMP:20260424T133631
CREATED:20180312T222140Z
LAST-MODIFIED:20180312T222140Z
UID:394942-1521896400-1521903600@urbanmilwaukee.com
SUMMARY:Fruit Tree Grafting Workshop
DESCRIPTION:For centuries people have been changing fruit trees to suit their needs. You can too! In this class you will graft and take home two semi-dwarf trees of your choice (apple\, pear or plum). Root stocks and scion wood provided. Additional materials will be available for a fee. Bring a sharp knife if you have one (there will be some available). Registration required by March 21st. \n
URL:https://urbanmilwaukee.com/event/fruit-tree-grafting-workshop/
LOCATION:1500 E. Park Pl\, Milwaukee\, WI\, 53211\, United States
CATEGORIES:Arts & Entertainment
ATTACH;FMTTYPE=image/jpeg:https://urbanmilwaukee.com/wp-content/uploads/2018/02/fruit-tree-grafting.jpg
END:VEVENT
END:VCALENDAR