BEGIN:VCALENDAR
VERSION:2.0
PRODID:-//Urban Milwaukee - ECPv4.6.9//NONSGML v1.0//EN
CALSCALE:GREGORIAN
METHOD:PUBLISH
X-WR-CALNAME:Urban Milwaukee
X-ORIGINAL-URL:https://urbanmilwaukee.com
X-WR-CALDESC:Events for Urban Milwaukee
BEGIN:VEVENT
DTSTART;TZID=America/Chicago:20170426T100000
DTEND;TZID=America/Chicago:20170426T180000
DTSTAMP:20260421T122339
CREATED:20170415T191855Z
LAST-MODIFIED:20170415T191855Z
UID:207519-1493200800-1493229600@urbanmilwaukee.com
SUMMARY:Friends of the UWM Golda Meir Library Used Book Sale
DESCRIPTION:Wednesday\, April 26 and Thursday\, April 27\, 10 a.m. to 6 p.m. both days. Thousands of gently used books. Most priced $.25 to $3. Thursday\, April 27 is bag day–$5 for a bag of books. Cash or check only. All proceeds benefit the UWM Libraries. \n
URL:https://urbanmilwaukee.com/event/friends-of-the-uwm-golda-meir-library-used-book-sale/
CATEGORIES:Arts & Entertainment
ATTACH;FMTTYPE=image/jpeg:https://urbanmilwaukee.com/wp-content/uploads/2017/04/booksale_fall13.jpg
END:VEVENT
END:VCALENDAR