BEGIN:VCALENDAR
VERSION:2.0
PRODID:-//Urban Milwaukee - ECPv4.6.9//NONSGML v1.0//EN
CALSCALE:GREGORIAN
METHOD:PUBLISH
X-WR-CALNAME:Urban Milwaukee
X-ORIGINAL-URL:https://urbanmilwaukee.com
X-WR-CALDESC:Events for Urban Milwaukee
BEGIN:VEVENT
DTSTART;TZID=America/Chicago:20190511T090000
DTEND;TZID=America/Chicago:20190511T120000
DTSTAMP:20260419T195832
CREATED:20190503T040703Z
LAST-MODIFIED:20190503T040703Z
UID:448595-1557565200-1557576000@urbanmilwaukee.com
SUMMARY:Friends of Chosen Walk
DESCRIPTION:Chosen Inc. (“Chosen”)\, a non-profit ministry dedicated to educating about and supporting foster and adoptive parenting\, will hold its third annual Friends of Chosen Walk May 11 at the Milwaukee County Zoo. \nThe event will support the ever-growing outreach of Waukesha-based Chosen\, which is dedicated to “Fostering Forever Families” through spiritual\, material\, and emotional support for families built around adoption and foster parenting. Its long-term goals include opening a multi-family foster community to care for children in need of a loving home. \nThe May 11 walk steps off at 10 a.m. from the Flamingo Landing Picnic Area at the zoo. Registration opens at 9 a.m. Lunch follows at 11 a.m. at the Flamingo plaza. \nParticipants in the 1.2-mile walk will get all-day zoo admission\, parking\, an event T-shirt\, lunch and a Chosen goodie bag. \nRegistration can be made at https://www.choseninlove.org/2019walk. \nFunds raised at the May 11 walk will support operations of The Family Closet in Waukesha\, where families can obtain donated clothing and other needed children’s items\, free of charge. Chosen is significantly expanding its educational push about the impact of adoption and fostering\, a mission boosted by the recent hiring of Amalie Bowling as its Executive Director of Outreach. \nSince its founding in 2016\, Chosen has served more than 225 families from 10 counties\, caring for more than 500 foster or adopted children. The Family Closet has given away more than 14\,500 items to families since opening in May 2017. \nMay is National Foster Care Month\, established in 1988 to recognize the role of foster parents in providing safe homes for children\, helping both them and their birth families. Chosen shares resource referrals to other organizations and professionals to help adoptive and foster families. \nMore information about Chosen is available at www.choseninlove.org\, by calling 262-724-6736\, or following on Facebook at www.facebook.com/OurChosenFamily. \n
URL:https://urbanmilwaukee.com/event/friends-of-chosen-walk/
LOCATION:10005 W. Blue Mound Rd.\, Milwaukee\, WI\, 53226\, United States
ATTACH;FMTTYPE=image/jpeg:https://urbanmilwaukee.com/wp-content/uploads/2019/04/Chosen-logo.jpg
END:VEVENT
END:VCALENDAR