BEGIN:VCALENDAR
VERSION:2.0
PRODID:-//Urban Milwaukee - ECPv4.6.9//NONSGML v1.0//EN
CALSCALE:GREGORIAN
METHOD:PUBLISH
X-WR-CALNAME:Urban Milwaukee
X-ORIGINAL-URL:https://urbanmilwaukee.com
X-WR-CALDESC:Events for Urban Milwaukee
BEGIN:VEVENT
DTSTART;TZID=America/Chicago:20230106T210000
DTEND;TZID=America/Chicago:20230107T020000
DTSTAMP:20260419T144234
CREATED:20230104T071546Z
LAST-MODIFIED:20230104T071546Z
UID:697075-1673038800-1673056800@urbanmilwaukee.com
SUMMARY:Friday Night Retro Dance Party with DJ Paul H
DESCRIPTION:Happy New Year! Join Mad Planet as we celebrate a new year — a new Friday full of retro dance music with DJ Paul H! Admission to this event is $7 at the door. \n
URL:https://urbanmilwaukee.com/event/friday-night-retro-dance-party-with-dj-paul-h/
LOCATION:533 E Center St.\, Milwaukee\, WI\, 53212\, United States
CATEGORIES:Arts & Entertainment
ATTACH;FMTTYPE=image/png:https://urbanmilwaukee.com/wp-content/uploads/2023/01/1.06-Paul.png
ORGANIZER;CN="Mad%20Planet":MAILTO:madp533@gmail.com
END:VEVENT
END:VCALENDAR