BEGIN:VCALENDAR
VERSION:2.0
PRODID:-//Urban Milwaukee - ECPv4.6.9//NONSGML v1.0//EN
CALSCALE:GREGORIAN
METHOD:PUBLISH
X-WR-CALNAME:Urban Milwaukee
X-ORIGINAL-URL:https://urbanmilwaukee.com
X-WR-CALDESC:Events for Urban Milwaukee
BEGIN:VEVENT
DTSTART;TZID=America/Chicago:20161008T193000
DTEND;TZID=America/Chicago:20161008T213000
DTSTAMP:20260424T065822
CREATED:20160825T051511Z
LAST-MODIFIED:20160825T051511Z
UID:180298-1475955000-1475962200@urbanmilwaukee.com
SUMMARY:Fretwork: "In Nomine"
DESCRIPTION:Early Music Now presents Fretwork\, celebrating their own 30th anniversary with a program centered on 16th century English works for viol consort by Byrd\, Gibbons\, Lawes\, Purcell\, Taverner\, and Tye\, along with a 1995 work of Gavin Bryars and the North American premiere of a composition by Nico Muhly. \n
URL:https://urbanmilwaukee.com/event/fretwork-in-nomine/
CATEGORIES:Arts & Entertainment
ATTACH;FMTTYPE=image/jpeg:https://urbanmilwaukee.com/wp-content/uploads/2016/08/A-Fretwork.jpg
END:VEVENT
END:VCALENDAR