BEGIN:VCALENDAR
VERSION:2.0
PRODID:-//Urban Milwaukee - ECPv4.6.9//NONSGML v1.0//EN
CALSCALE:GREGORIAN
METHOD:PUBLISH
X-WR-CALNAME:Urban Milwaukee
X-ORIGINAL-URL:https://urbanmilwaukee.com
X-WR-CALDESC:Events for Urban Milwaukee
BEGIN:VEVENT
DTSTART;TZID=America/Chicago:20170423T150000
DTEND;TZID=America/Chicago:20170423T170000
DTSTAMP:20260421T173920
CREATED:20170104T200021Z
LAST-MODIFIED:20170104T200133Z
UID:195821-1492959600-1492966800@urbanmilwaukee.com
SUMMARY:Archaeology of Anglo-Saxon England: Urbanism and state formation in Anglo-Saxon England
DESCRIPTION:This lecture explores the archaeology of Anglo-Saxon England from the 5th to the 10th centuries CE. It examines the end of Roman Britain and the nature of the 5th and 6th century Early Anglo-Saxon settlements. It then explores the re-birth of urbanism in the late 7th century and the formation of the Anglo-Saxon kingdoms between the 7th and the 10th centuries. The Anglo-Saxon sites of West Stow\, Sutton Hoo\, Brandon\, Ipswich\, Hamwic (Middle Anglo-Saxon Southampton)\, and Winchester will be discussed in detail. \nPam Crabtree is Associate Professor of Anthropology at New York University\, and holds her degrees from the University of Pennsylvania (M.A. and Ph.D.) and Barnard College. Her fields of research are zooarchaeology\, Medieval archaeology (in particular Anglo Saxon archaeology)\, later Prehistoric Europe\, Near Eastern archaeology and prehistory. She has published widely\, and her current projects include Early Medieval Britain–The Rebirth of Towns in the Post-Roman West (Cambridge University Press\, in preparation). \n
URL:https://urbanmilwaukee.com/event/free-public-archaeology-lecture-the-archaeology-of-anglo-saxon-england-urbanism-and-state-formation-in-anglo-saxon-england/
CATEGORIES:Arts & Entertainment
ATTACH;FMTTYPE=image/jpeg:https://urbanmilwaukee.com/wp-content/uploads/2017/01/crabtree1.jpg
END:VEVENT
END:VCALENDAR