BEGIN:VCALENDAR
VERSION:2.0
PRODID:-//Urban Milwaukee - ECPv4.6.9//NONSGML v1.0//EN
CALSCALE:GREGORIAN
METHOD:PUBLISH
X-WR-CALNAME:Urban Milwaukee
X-ORIGINAL-URL:https://urbanmilwaukee.com
X-WR-CALDESC:Events for Urban Milwaukee
BEGIN:VEVENT
DTSTART;TZID=America/Chicago:20190722T190000
DTEND;TZID=America/Chicago:20190722T200000
DTSTAMP:20260423T102130
CREATED:20190705T124637Z
LAST-MODIFIED:20190705T124637Z
UID:461948-1563822000-1563825600@urbanmilwaukee.com
SUMMARY:Free Choir Concert
DESCRIPTION:The award-winning all-girls choir from Notre Dame Academy of Kyoto\, Japan\, will perform a free concert at Mount Mary University’s Stiemke Hall at 7 p.m. Monday\, July 22. \nThe choir will perform modern and Japanese folk and religious songs under the direction of Toru Terashita\, music director of Notre Dame Elementary School of Kyoto. The school is sponsored by the School Sisters of Notre Dame\, as is Mount Mary University. The group’s most recent Milwaukee performance took place in 2014. \nThe choir\, comprised of elementary and junior high girls\, will perform on campus as part of a five-day visit to the area. The group will stay at the Mount Mary campus\, hold private performances for select community groups and tour Milwaukee. \nA second performance opportunity\, at 3 p.m. Thursday\, July 25\, will be open to the public. It will be held in the atrium of the Milwaukee Art Museum. The performance is free with museum admission. \n“We welcome this group to our campus and our community\, both for the music and for the partnership this group represents\,” said Christine Pharr\, Ph.D.\, president of Mount Mary. “The international reach of the School Sisters of Notre Dame is evident when we\, as sister organizations\, have an opportunity to come together and appreciate the impact that we share on a global scale.” \nThe group performs music intended to “teach children the fun\, wonders and greatness of music and to foster the heart of prayer to God through music\,“ Terashita said. Many of the songs are his own composition\, while others are Western classics transcribed into Japanese. For more information about the Notre Dame of Kyoto’s concert at Mount Mary or to order free tickets\, contact Amy Knox at knoxa@mtmary.edu\, 414-930-3563 or visit Eventbrite. \n
URL:https://urbanmilwaukee.com/event/free-choir-concert/
LOCATION:2900 N. Menomonee River Pkwy.\, Milwaukee\, WI\, 53222-4597\, United States
CATEGORIES:Arts & Entertainment
ATTACH;FMTTYPE=image/jpeg:https://urbanmilwaukee.com/wp-content/uploads/2019/06/magnolia-trees-556718_1920.jpg
END:VEVENT
END:VCALENDAR