BEGIN:VCALENDAR
VERSION:2.0
PRODID:-//Urban Milwaukee - ECPv4.6.9//NONSGML v1.0//EN
CALSCALE:GREGORIAN
METHOD:PUBLISH
X-WR-CALNAME:Urban Milwaukee
X-ORIGINAL-URL:https://urbanmilwaukee.com
X-WR-CALDESC:Events for Urban Milwaukee
BEGIN:VEVENT
DTSTART;TZID=America/Chicago:20200730T173000
DTEND;TZID=America/Chicago:20200730T183000
DTSTAMP:20260422T042824
CREATED:20200722T184258Z
LAST-MODIFIED:20200723T130621Z
UID:531443-1596130200-1596133800@urbanmilwaukee.com
SUMMARY:For Members Only: Virtual Q+A with State Rep. David Bowen
DESCRIPTION:On Thursday July 30 at 5:30 p.m. Urban Milwaukee President Jeramey Jannene and State Rep. David Bowen will virtually sit down together to chat about Bowen’s current position in state government\, successfully recovering from COVID-19 and his recent and dedicated actions during the George Floyd protests\, and we want our members to join in on the conversation. \n
URL:https://urbanmilwaukee.com/event/for-members-only-virtual-qa-with-state-rep-david-bowen/
CATEGORIES:Health,Members Only,Politics,Virtual
ATTACH;FMTTYPE=image/png:https://urbanmilwaukee.com/wp-content/uploads/2020/07/Member-Exclusive-Bowen.png
ORGANIZER;CN="Urban%20Milwaukee":MAILTO:info@urbanmilwaukee.com
END:VEVENT
END:VCALENDAR