BEGIN:VCALENDAR
VERSION:2.0
PRODID:-//Urban Milwaukee - ECPv4.6.9//NONSGML v1.0//EN
CALSCALE:GREGORIAN
METHOD:PUBLISH
X-WR-CALNAME:Urban Milwaukee
X-ORIGINAL-URL:https://urbanmilwaukee.com
X-WR-CALDESC:Events for Urban Milwaukee
BEGIN:VEVENT
DTSTART;TZID=America/Chicago:20190925T113000
DTEND;TZID=America/Chicago:20190925T133000
DTSTAMP:20260422T093309
CREATED:20190808T114515Z
LAST-MODIFIED:20190808T114515Z
UID:468511-1569411000-1569418200@urbanmilwaukee.com
SUMMARY:Food Truck Wednesday
DESCRIPTION:Enjoy a bite to eat and the outdoors in the Menomonee Valley Community Park. Don’t forget a chair or blanket to picnic in the park! \n
URL:https://urbanmilwaukee.com/event/food-truck-wednesday/
CATEGORIES:Food & Drink
ATTACH;FMTTYPE=image/png:https://urbanmilwaukee.com/wp-content/uploads/2019/08/5.png
END:VEVENT
END:VCALENDAR