BEGIN:VCALENDAR
VERSION:2.0
PRODID:-//Urban Milwaukee - ECPv4.6.9//NONSGML v1.0//EN
CALSCALE:GREGORIAN
METHOD:PUBLISH
X-WR-CALNAME:Urban Milwaukee
X-ORIGINAL-URL:https://urbanmilwaukee.com
X-WR-CALDESC:Events for Urban Milwaukee
BEGIN:VEVENT
DTSTART;TZID=America/Chicago:20190627T230000
DTEND;TZID=America/Chicago:20190627T230000
DTSTAMP:20260420T195729
CREATED:20190611T123308Z
LAST-MODIFIED:20190611T123308Z
UID:458577-1561676400-1561676400@urbanmilwaukee.com
SUMMARY:Folk Uke at Shank Hall
DESCRIPTION:Folk Uke\, the duo comprised of Amy Nelson and Cathy Guthrie\, has gained quite a cult following\, and their music has been featured in Orange Is The New Black and Supertroopers 2. “Folk Uke combines dulcet voices and sweet acoustic tones with aggressively salacious lyrical material\, making for quite the clashing effect that however counter-intuitive it might seem on paper\, creates an interesting\, unique\, and wholly enjoyable musical experience like no other” says savingcountrymusic.com. \n
URL:https://urbanmilwaukee.com/event/folk-uke-at-shank-hall/
LOCATION:1434 N Farwell Ave.\, Milwaukee\, CA\, 53202\, United States
CATEGORIES:Arts & Entertainment
ATTACH;FMTTYPE=image/png:https://urbanmilwaukee.com/wp-content/uploads/2019/06/Screen-Shot-2019-06-07-at-2.24.53-PM.png
END:VEVENT
END:VCALENDAR