BEGIN:VCALENDAR
VERSION:2.0
PRODID:-//Urban Milwaukee - ECPv4.6.9//NONSGML v1.0//EN
CALSCALE:GREGORIAN
METHOD:PUBLISH
X-WR-CALNAME:Urban Milwaukee
X-ORIGINAL-URL:https://urbanmilwaukee.com
X-WR-CALDESC:Events for Urban Milwaukee
BEGIN:VEVENT
DTSTART;TZID=America/Chicago:20190511T110000
DTEND;TZID=America/Chicago:20190511T150000
DTSTAMP:20260419T181236
CREATED:20190322T041548Z
LAST-MODIFIED:20190322T041636Z
UID:446427-1557572400-1557586800@urbanmilwaukee.com
SUMMARY:FM 102/1's Veg Out Health Fest
DESCRIPTION:Join FM 102/1 and more than 50 merchants and vendors for FM 102/1’s Veg Out Health Fest on Saturday\, May 11 from 11 a.m. to 3 p.m. at the Miller High Life Theater (500 W. Kilbourn Ave.) in downtown Milwaukee. \nEnjoy a wide variety of vegetarian/vegan foods from dozens of area restaurants\, cocktails/local craft beers\, live entertainment\, products\, gifts and healthy living items from local\, Milwaukee-area merchants. \nWin cool VEG OUT prizes every hour as FM 102/1 broadcasts live from the event. \nAdmission is $5 — kids 12 and under are FREE. \n
URL:https://urbanmilwaukee.com/event/fm-1021s-veg-out-health-fest/
LOCATION:500 W. Kilbourn Ave.\, Milwaukee\, WI\, 53203\, United States
CATEGORIES:Food & Drink
ATTACH;FMTTYPE=image/png:https://urbanmilwaukee.com/wp-content/uploads/2019/03/FM1021-VEG-OUT-MKE-2019-widget-2.png
END:VEVENT
END:VCALENDAR