BEGIN:VCALENDAR
VERSION:2.0
PRODID:-//Urban Milwaukee - ECPv4.6.9//NONSGML v1.0//EN
CALSCALE:GREGORIAN
METHOD:PUBLISH
X-WR-CALNAME:Urban Milwaukee
X-ORIGINAL-URL:https://urbanmilwaukee.com
X-WR-CALDESC:Events for Urban Milwaukee
BEGIN:VEVENT
DTSTART;TZID=America/Chicago:20190510T190000
DTEND;TZID=America/Chicago:20190510T230000
DTSTAMP:20260419T233211
CREATED:20190324T131050Z
LAST-MODIFIED:20190324T131050Z
UID:446463-1557514800-1557529200@urbanmilwaukee.com
SUMMARY:FM 102/1 Big Spring Show featuring The 1975 with Pale Waves\, No Rome
DESCRIPTION:Don’t miss an incredible night with The 1975\, live in the Eagles Ballroom\, Friday\, May 10th. It will be The 1975’s fifth time at The Rave/Eagles Club. \nAdvance tickets start at $67.50 \n(opening acts subject to change without notice) \nPurchase tickets at http://tickets.therave.com/the1975\, charge by phone at 414-342-7283\, or visit our box office at 2401 W. Wisconsin Ave. in Milwaukee. Box office and charge by phone hours are Mon-Sat 10 a.m. to 6 p.m. (open later on show nights). \nDon’t get ripped off. Only buy tickets from TheRave.com\, eTix.com\, or links provided by The Rave or official band sites. \n
URL:https://urbanmilwaukee.com/event/fm-1021-big-spring-show-featuring-the-1975-with-pale-waves-no-rome/
LOCATION:2401 W. Wisconsin Ave.\, Milwaukee\, WI\, 53233\, United States
CATEGORIES:Arts & Entertainment
ATTACH;FMTTYPE=image/jpeg:https://urbanmilwaukee.com/wp-content/uploads/2019/03/49898099_10157033659657276_44721067796725760_o.jpg
END:VEVENT
END:VCALENDAR