BEGIN:VCALENDAR
VERSION:2.0
PRODID:-//Urban Milwaukee - ECPv4.6.9//NONSGML v1.0//EN
CALSCALE:GREGORIAN
METHOD:PUBLISH
X-WR-CALNAME:Urban Milwaukee
X-ORIGINAL-URL:https://urbanmilwaukee.com
X-WR-CALDESC:Events for Urban Milwaukee
BEGIN:VEVENT
DTSTART;TZID=America/Chicago:20190502T180000
DTEND;TZID=America/Chicago:20190502T210000
DTSTAMP:20260421T094302
CREATED:20190325T205954Z
LAST-MODIFIED:20190325T205954Z
UID:446824-1556820000-1556830800@urbanmilwaukee.com
SUMMARY:Flight Night
DESCRIPTION:Spend a spring evening with Milwaukee craft breweries and meet our birds of prey! \nSample seasonal\, specialty\, and local beers in a Schlitz Audubon tasting glass while talking with brewery representatives. Enjoy the Center’s picturesque outdoors for part of this tasting event\, and meet some of our birds\, including owls\, falcons\, hawks\, and even a Bald Eagle. This event is for ages 21 and above. Tickets are $60 per person. \nThe event supports our Raptor Program\, which was founded to help educate the public about these dynamic birds and their importance in our environment. Today\, 15 birds of prey live at and are cared for by Schlitz Audubon. \nParticipating Breweries: \n\n1840 Brewing Company\nThe Fermentorium\nHinterland\nMobcraft\nSt. Francis Brewery\nUntitled Art Brewing\n\n
URL:https://urbanmilwaukee.com/event/flight-night/
LOCATION:1111 E. Brown Deer Rd.\, Milwaukee\, WI\, 53217\, United States
CATEGORIES:Arts & Entertainment,Food & Drink
ATTACH;FMTTYPE=image/jpeg:https://urbanmilwaukee.com/wp-content/uploads/2019/03/flight-night-may.jpg
END:VEVENT
END:VCALENDAR