BEGIN:VCALENDAR
VERSION:2.0
PRODID:-//Urban Milwaukee - ECPv4.6.9//NONSGML v1.0//EN
CALSCALE:GREGORIAN
METHOD:PUBLISH
X-WR-CALNAME:Urban Milwaukee
X-ORIGINAL-URL:https://urbanmilwaukee.com
X-WR-CALDESC:Events for Urban Milwaukee
BEGIN:VEVENT
DTSTART;TZID=America/Chicago:20171006T180000
DTEND;TZID=America/Chicago:20171006T190000
DTSTAMP:20260423T214533
CREATED:20170920T191741Z
LAST-MODIFIED:20171005T222120Z
UID:374495-1507312800-1507316400@urbanmilwaukee.com
SUMMARY:First Stage Presents: Chitty Chitty Bang Bang
DESCRIPTION:Take a fantastic musical adventure with an out-of-this-world car that flies through the air and sails the seas. Cheer on the devoted father and eccentric inventor\, Caractacus Potts\, and his children\, Jemima and Jeremy\, as they plot to rescue Grandpa Potts and the children of Vulgaria from the dastardly Baron Bomburst. Based on the beloved 1968 film based on Ian Fleming’s children’s book and featuring an unforgettable score\, this is one family-friendly blockbuster that audiences will find “Truly Scrumptious.” Suggested for families with young people ages 6 – 16+ \nPerformances are held on Saturdays and Sundays at the Marcus Center for the Performing Arts – Todd Wehr Theater. \n
URL:https://urbanmilwaukee.com/event/first-stage-presents-chitty-chitty-bang-bang/
LOCATION:929 N. Water St.\, Milwaukee\, WI\, 53202\, United States
CATEGORIES:Arts & Entertainment
ATTACH;FMTTYPE=image/jpeg:https://urbanmilwaukee.com/wp-content/uploads/2017/09/LogoThmbs_2017-18-Chitty.jpg
END:VEVENT
END:VCALENDAR