BEGIN:VCALENDAR
VERSION:2.0
PRODID:-//Urban Milwaukee - ECPv4.6.9//NONSGML v1.0//EN
CALSCALE:GREGORIAN
METHOD:PUBLISH
X-WR-CALNAME:Urban Milwaukee
X-ORIGINAL-URL:https://urbanmilwaukee.com
X-WR-CALDESC:Events for Urban Milwaukee
BEGIN:VEVENT
DTSTART;TZID=America/Chicago:20180929T100000
DTEND;TZID=America/Chicago:20180929T170000
DTSTAMP:20260424T144136
CREATED:20180106T202550Z
LAST-MODIFIED:20180106T202550Z
UID:387545-1538215200-1538240400@urbanmilwaukee.com
SUMMARY:First Annual Harvest Fest
DESCRIPTION:Brew City Crafters LLC partners with Make-a-Wish Wisconsin for our First Annual Harvest Fest. On Saturday\, September 29th\, 2018\, join us as 230 artists\, crafters & vendors from Wisconsin and beyond take over the Milwaukee County Sports Complex for a day full of fun. From 10 a.m. until 5 p.m.\, we will have woodworkers\, jewelers\, photographers\, painters\, sculptors\, food vendors and so much more on hand selling their works. We invite you to join us for our biggest show of the year that also supports a great cause. \nAdmission is $2 per adult – children 12 & under are free. \n50% of all admission sales will be donated to the Wisconsin Chapter of the Make-a-Wish Foundation. \nFREE parking! \n
URL:https://urbanmilwaukee.com/event/first-annual-harvest-fest/
CATEGORIES:Arts & Entertainment
ATTACH;FMTTYPE=image/jpeg:https://urbanmilwaukee.com/wp-content/uploads/2017/12/AZXDgIfpqdMytYJJUZrWyu-BCWz9MJG05cB-ZxI.jpg
END:VEVENT
END:VCALENDAR