BEGIN:VCALENDAR
VERSION:2.0
PRODID:-//Urban Milwaukee - ECPv4.6.9//NONSGML v1.0//EN
CALSCALE:GREGORIAN
METHOD:PUBLISH
X-WR-CALNAME:Urban Milwaukee
X-ORIGINAL-URL:https://urbanmilwaukee.com
X-WR-CALDESC:Events for Urban Milwaukee
BEGIN:VEVENT
DTSTART;TZID=America/Chicago:20190627T193000
DTEND;TZID=America/Chicago:20190627T213000
DTSTAMP:20260420T182243
CREATED:20190608T133310Z
LAST-MODIFIED:20190608T133310Z
UID:458523-1561663800-1561671000@urbanmilwaukee.com
SUMMARY:Firefly Monitoring Kickoff Celebration
DESCRIPTION:Whether you call them Fireflies or Lightning Bugs\, members of the Family Lampyridae are truly fascinating! Participate in this summer’s joint firefly monitoring project with the Milwaukee Public Museum. Please register in advance. \nFree – donations appreciated \n
URL:https://urbanmilwaukee.com/event/firefly-monitoring-kickoff-celebration/
LOCATION:1500 E. Park Pl\, Milwaukee\, WI\, 53211\, United States
CATEGORIES:Arts & Entertainment
ATTACH;FMTTYPE=image/jpeg:https://urbanmilwaukee.com/wp-content/uploads/2018/03/Urban-Ecology-Center-tkwaj.jpg
END:VEVENT
END:VCALENDAR