BEGIN:VCALENDAR
VERSION:2.0
PRODID:-//Urban Milwaukee - ECPv4.6.9//NONSGML v1.0//EN
CALSCALE:GREGORIAN
METHOD:PUBLISH
X-WR-CALNAME:Urban Milwaukee
X-ORIGINAL-URL:https://urbanmilwaukee.com
X-WR-CALDESC:Events for Urban Milwaukee
BEGIN:VEVENT
DTSTART;TZID=America/Chicago:20190720T140000
DTEND;TZID=America/Chicago:20190720T153000
DTSTAMP:20260423T120716
CREATED:20190616T154319Z
LAST-MODIFIED:20190616T154319Z
UID:459865-1563631200-1563636600@urbanmilwaukee.com
SUMMARY:Family Paddle at Washington Park
DESCRIPTION:Celebrate summer with some afternoon fun in the sun! Enjoy guided canoeing trips and family fun on our island. All canoeing skill levels welcome. \nFor adults and accompanied children ages 5 and up | Program Cost: $21 | Member Discount: $15 | Price Break: $10 \n
URL:https://urbanmilwaukee.com/event/family-paddle-at-washington-park/
LOCATION:1859 N. 40th St.\, Milwaukee\, WI\, 53208\, United States
CATEGORIES:Arts & Entertainment
ATTACH;FMTTYPE=image/jpeg:https://urbanmilwaukee.com/wp-content/uploads/2019/06/IMG-4408.jpg
END:VEVENT
END:VCALENDAR