BEGIN:VCALENDAR
VERSION:2.0
PRODID:-//Urban Milwaukee - ECPv4.6.9//NONSGML v1.0//EN
CALSCALE:GREGORIAN
METHOD:PUBLISH
X-WR-CALNAME:Urban Milwaukee
X-ORIGINAL-URL:https://urbanmilwaukee.com
X-WR-CALDESC:Events for Urban Milwaukee
BEGIN:VEVENT
DTSTART;TZID=America/Chicago:20190802T183000
DTEND;TZID=America/Chicago:20190802T200000
DTSTAMP:20260422T212217
CREATED:20190709T123815Z
LAST-MODIFIED:20190709T123816Z
UID:463353-1564770600-1564776000@urbanmilwaukee.com
SUMMARY:Family Night Out: Summer Night Hike & Campfire
DESCRIPTION:Summer’s wrapping up! Stay in town\, get your hiking shoes and marshmallows ready\, bring the kids and join us for an adventurous night out at Three Bridges Park! (If we are required to cancel due to weather conditions\, you will be refunded the full cost of registration.) \nFor adults and children | Program Cost: $21 | Member Discount: $15 | Price Break: $10 \n
URL:https://urbanmilwaukee.com/event/family-night-out-summer-night-hike-campfire-2/
LOCATION:3700 W. Pierce St.\, Milwaukee\, WI
CATEGORIES:Arts & Entertainment
ATTACH;FMTTYPE=image/jpeg:https://urbanmilwaukee.com/wp-content/uploads/2019/07/IMG_5376.jpg
END:VEVENT
END:VCALENDAR