BEGIN:VCALENDAR
VERSION:2.0
PRODID:-//Urban Milwaukee - ECPv4.6.9//NONSGML v1.0//EN
CALSCALE:GREGORIAN
METHOD:PUBLISH
X-WR-CALNAME:Urban Milwaukee
X-ORIGINAL-URL:https://urbanmilwaukee.com
X-WR-CALDESC:Events for Urban Milwaukee
BEGIN:VEVENT
DTSTART;TZID=America/Chicago:20191025T173000
DTEND;TZID=America/Chicago:20191025T193000
DTSTAMP:20260425T175307
CREATED:20190905T120059Z
LAST-MODIFIED:20190905T120059Z
UID:470817-1572024600-1572031800@urbanmilwaukee.com
SUMMARY:Fall Night Fun! At Urban Ecology Center
DESCRIPTION:Join us after dinner for a special autumn celebration at Riverside Park! We’ll carve pumpkins\, take a night hike and end with roasting marshmallows around a campfire. Take home your pumpkin to enjoy! \n  \n
URL:https://urbanmilwaukee.com/event/fall-night-fun-at-urban-ecology-center/
LOCATION:1500 E. Park Pl\, Milwaukee\, WI\, 53211\, United States
CATEGORIES:Arts & Entertainment
ATTACH;FMTTYPE=image/jpeg:https://urbanmilwaukee.com/wp-content/uploads/2019/08/IMG_5642.jpg
END:VEVENT
END:VCALENDAR