BEGIN:VCALENDAR
VERSION:2.0
PRODID:-//Urban Milwaukee - ECPv4.6.9//NONSGML v1.0//EN
CALSCALE:GREGORIAN
METHOD:PUBLISH
X-WR-CALNAME:Urban Milwaukee
X-ORIGINAL-URL:https://urbanmilwaukee.com
X-WR-CALDESC:Events for Urban Milwaukee
BEGIN:VEVENT
DTSTART;TZID=America/Chicago:20180915T130000
DTEND;TZID=America/Chicago:20180915T150000
DTSTAMP:20260424T112052
CREATED:20180912T111612Z
LAST-MODIFIED:20180912T111612Z
UID:417990-1537016400-1537023600@urbanmilwaukee.com
SUMMARY:Fall Family Paddle
DESCRIPTION:Celebrate the coming of autumn with a relaxing afternoon paddle. Enjoy guided canoeing and nature activities around our beautiful lagoon. All skill levels welcome! Please register by Friday\, September 14th. \n
URL:https://urbanmilwaukee.com/event/fall-family-paddle/
LOCATION:1859 N. 40th St.\, Milwaukee\, WI\, 53208\, United States
CATEGORIES:Arts & Entertainment
ATTACH;FMTTYPE=image/jpeg:https://urbanmilwaukee.com/wp-content/uploads/2018/08/Fall-Family-Paddle-under-the-Sun.jpg
END:VEVENT
END:VCALENDAR