BEGIN:VCALENDAR
VERSION:2.0
PRODID:-//Urban Milwaukee - ECPv4.6.9//NONSGML v1.0//EN
CALSCALE:GREGORIAN
METHOD:PUBLISH
X-WR-CALNAME:Urban Milwaukee
X-ORIGINAL-URL:https://urbanmilwaukee.com
X-WR-CALDESC:Events for Urban Milwaukee
BEGIN:VEVENT
DTSTART;TZID=America/Chicago:20180922T100000
DTEND;TZID=America/Chicago:20180922T210000
DTSTAMP:20260424T094856
CREATED:20180907T111720Z
LAST-MODIFIED:20180907T111720Z
UID:419504-1537610400-1537650000@urbanmilwaukee.com
SUMMARY:Fall Experiment
DESCRIPTION:On Saturday\, September 22\, join Milwaukee’s film\, art\, music and tech communities at the inaugural Fall Experiment! This free\, day-long celebration of innovation\, entrepreneurship and creative collaboration will feature hands-on tech workshops in virtual reality\, artificial intelligence\, gaming and digital animation\, alongside live musical performances and interactive presentations on film\, art and entrepreneurship. \nProgramming will take place at the UWM Peck School of Arts Kenilworth Building on Milwaukee’s East Side. The Fall Experiment is open to the public\, free of charge and offers something for anyone interested in learning more about the latest creative and tech trends. The day-long event also includes Black Cat Alley’s annual Mural Festival and music from The Pabst Theater Group and The Back Room @ Colectivo. All of these activities will take place against the backdrop of the ever-popular Doors Open Milwaukee. \nThe Fall Experiment is THE place for Wisconsin’s aspiring artists\, inventors\, engineers and imagineers to meet\, learn and create together. For programming information and to register\, visit http://www.fallexperiment.com. Sponsors and partners of the Fall Experiment include Northwestern Mutual\, Gener8tor\, BLK SHP\, Advocate Aurora Health\, Custom Reality Services\, RokkinCat\, Black Cat Alley\, The Pabst Theater Group\, 88Nine\, Gufsky\, Bright Cellars and Mungo Creative Group. \n
URL:https://urbanmilwaukee.com/event/fall-experiment/
LOCATION:2155 N. Prospect Ave.\, Milwaukee\, WI\, 53202\, United States
CATEGORIES:Arts & Entertainment
ATTACH;FMTTYPE=image/png:https://urbanmilwaukee.com/wp-content/uploads/2018/09/Screen-Shot-2018-09-05-at-9.34.40-AM.png
END:VEVENT
END:VCALENDAR