BEGIN:VCALENDAR
VERSION:2.0
PRODID:-//Urban Milwaukee - ECPv4.6.9//NONSGML v1.0//EN
CALSCALE:GREGORIAN
METHOD:PUBLISH
X-WR-CALNAME:Urban Milwaukee
X-ORIGINAL-URL:https://urbanmilwaukee.com
X-WR-CALDESC:Events for Urban Milwaukee
BEGIN:VEVENT
DTSTART;TZID=America/Chicago:20231115T190000
DTEND;TZID=America/Chicago:20231115T210000
DTSTAMP:20260419T142424
CREATED:20231115T162851Z
LAST-MODIFIED:20231115T162851Z
UID:747972-1700074800-1700082000@urbanmilwaukee.com
SUMMARY:Fall Cocktails Mixology Workshop
DESCRIPTION:Join us to make FIVE delicious fall cocktails. From Pumpkin Spice White Russians to Caramel Apple Martinis to Maple Bourbon Old Fashioned we can show you how to Impress your Thanksgiving guests or reward a hostess! These simple yet spectacular shooters and drinks make for a fun night out! Kits will be available for purchase. \n
URL:https://urbanmilwaukee.com/event/fall-cocktails-mixology-workshop/
LOCATION:1515 W Mequon Road\, Mequon\, WI\, 53092\, United States
CATEGORIES:Class,Food & Drink
ATTACH;FMTTYPE=image/jpeg:https://urbanmilwaukee.com/wp-content/uploads/2023/10/51338.jpeg
ORGANIZER;CN="SIP%20MKE":MAILTO:jackie@sipmke.com
END:VEVENT
END:VCALENDAR