BEGIN:VCALENDAR
VERSION:2.0
PRODID:-//Urban Milwaukee - ECPv4.6.9//NONSGML v1.0//EN
CALSCALE:GREGORIAN
METHOD:PUBLISH
X-WR-CALNAME:Urban Milwaukee
X-ORIGINAL-URL:https://urbanmilwaukee.com
X-WR-CALDESC:Events for Urban Milwaukee
BEGIN:VEVENT
DTSTART;TZID=America/Chicago:20170504T183000
DTEND;TZID=America/Chicago:20170504T200000
DTSTAMP:20260420T062509
CREATED:20170406T184242Z
LAST-MODIFIED:20170406T184242Z
UID:206493-1493922600-1493928000@urbanmilwaukee.com
SUMMARY:Express Yourself Milwaukee presents SOUL
DESCRIPTION:Join us for SOUL\, a one-of-kind performance that celebrates at-risk young people working in collaboration with professional artists through Express Yourself Milwaukee’s year-long arts immersion program. \nThe family-friendly show brings together dance\, music\, spoken word\, and visual arts for a powerful explosion of creativity and fun. \n
URL:https://urbanmilwaukee.com/event/express-yourself-milwaukee-presents-soul/
LOCATION:500 W. Kilbourn Ave\, Milwaukee\, WI\, 53203\, United States
CATEGORIES:Arts & Entertainment
ATTACH;FMTTYPE=image/jpeg:https://urbanmilwaukee.com/wp-content/uploads/2017/04/20160512_193051_Express_Yourself_Milwaukee_Illuminate_0709-X3.jpg
END:VEVENT
END:VCALENDAR