BEGIN:VCALENDAR
VERSION:2.0
PRODID:-//Urban Milwaukee - ECPv4.6.9//NONSGML v1.0//EN
CALSCALE:GREGORIAN
METHOD:PUBLISH
X-WR-CALNAME:Urban Milwaukee
X-ORIGINAL-URL:https://urbanmilwaukee.com
X-WR-CALDESC:Events for Urban Milwaukee
BEGIN:VEVENT
DTSTART;TZID=America/Chicago:20171007T140000
DTEND;TZID=America/Chicago:20171007T170000
DTSTAMP:20260424T004720
CREATED:20170920T211458Z
LAST-MODIFIED:20170920T211458Z
UID:375999-1507384800-1507395600@urbanmilwaukee.com
SUMMARY:Exhibition Opening Party: Gerit Grimm’s Fairytales
DESCRIPTION:Make it a mythical afternoon and view three new exhibitions Gerit Grimm’s Fairytales: In A Time Neither Now Nor Then\, Romano Johnson: The Glitterati\, and Dean Meeker: Myths and Masquerades. Meet artists Gerit Grimm and Romano Johnson while enjoying live music\, light snacks\, and a special Studio Saturday. \n
URL:https://urbanmilwaukee.com/event/exhibition-opening-party-gerit-grimms-fairytales/
CATEGORIES:Arts & Entertainment
ATTACH;FMTTYPE=image/jpeg:https://urbanmilwaukee.com/wp-content/uploads/2017/09/grimm_360x300_web.jpg
END:VEVENT
END:VCALENDAR