BEGIN:VCALENDAR
VERSION:2.0
PRODID:-//Urban Milwaukee - ECPv4.6.9//NONSGML v1.0//EN
CALSCALE:GREGORIAN
METHOD:PUBLISH
X-WR-CALNAME:Urban Milwaukee
X-ORIGINAL-URL:https://urbanmilwaukee.com
X-WR-CALDESC:Events for Urban Milwaukee
BEGIN:VEVENT
DTSTART;TZID=America/Chicago:20251106T180000
DTEND;TZID=America/Chicago:20251106T200000
DTSTAMP:20260424T024425
CREATED:20250916T104621Z
LAST-MODIFIED:20250916T104621Z
UID:897098-1762452000-1762459200@urbanmilwaukee.com
SUMMARY:Ex Fabula StoryStretch Workshop
DESCRIPTION:Looking to sharpen your storytelling skills? This workshop is for you! \nStretch your storytelling muscles with this guided\, interactive training covering the nuance of the craft; led by our experienced coaches! Refine\, shape\, and share your stories with confidence. Space is limited. Reserve a spot today! \nCost: $30 early bird; cost goes to $45 on November 1\, 2025. \n
URL:https://urbanmilwaukee.com/event/ex-fabula-storystretch-workshop-4/
LOCATION:825 N 27th St\, Milwaukee\, WI\, 53208\, United States
CATEGORIES:Arts & Entertainment,Class
ATTACH;FMTTYPE=image/jpeg:https://urbanmilwaukee.com/wp-content/uploads/2025/08/11_6-StoryStretch.jpg
END:VEVENT
END:VCALENDAR