BEGIN:VCALENDAR
VERSION:2.0
PRODID:-//Urban Milwaukee - ECPv4.6.9//NONSGML v1.0//EN
CALSCALE:GREGORIAN
METHOD:PUBLISH
X-WR-CALNAME:Urban Milwaukee
X-ORIGINAL-URL:https://urbanmilwaukee.com
X-WR-CALDESC:Events for Urban Milwaukee
BEGIN:VEVENT
DTSTART;TZID=America/Chicago:20230119T190000
DTEND;TZID=America/Chicago:20230119T203000
DTSTAMP:20260420T133117
CREATED:20230118T164214Z
LAST-MODIFIED:20230118T164214Z
UID:695012-1674154800-1674160200@urbanmilwaukee.com
SUMMARY:Ex Fabula StorySlam: Nature
DESCRIPTION:Date: Thursday\, January 19\, 2023\nTime: 6:30pm entry\, 7pm stories\nLocation: Sprecher Brewery – 701 W Glendale Ave\, Glendale\, WI 53209 \nPurchase tickets here: https://rebrand.ly/tickets-cc \nCost: $10 advance / $12 at the door if tickets remain. Limited Pay-it-forward tickets available! \nTheme: NATURE — Stories of going into the wild\, holistic living\, being your real self\, and Mother Nature. \nEx Fabula StorySlams are live events where community members connect and share true\, personal stories related to the night’s theme\, told without props or notes. Come just to listen – or throw your name in the hat for a chance to share a true story related to the theme ‘Nature’. At the end of the night\, the audience votes by secret ballot to crown an *Audience Favorite. \nThe audience can also be a part of the storytelling by submitting UltraShorts! These are “ultra-short” stories on the night’s theme that will be read onstage by the emcee. \n*Audience Favorite: the storyteller voted audience favorite will be invited to tell another story at ALL STARS for the chance to be crowned Season Favorite. \n
URL:https://urbanmilwaukee.com/event/ex-fabula-storyslam-nature/
CATEGORIES:Arts & Entertainment,Comedy
ATTACH;FMTTYPE=image/png:https://urbanmilwaukee.com/wp-content/uploads/2022/12/Nature-Banner.png
END:VEVENT
END:VCALENDAR