BEGIN:VCALENDAR
VERSION:2.0
PRODID:-//Urban Milwaukee - ECPv4.6.9//NONSGML v1.0//EN
CALSCALE:GREGORIAN
METHOD:PUBLISH
X-WR-CALNAME:Urban Milwaukee
X-ORIGINAL-URL:https://urbanmilwaukee.com
X-WR-CALDESC:Events for Urban Milwaukee
BEGIN:VEVENT
DTSTART;TZID=America/Chicago:20191106T193000
DTEND;TZID=America/Chicago:20191106T213000
DTSTAMP:20260424T075850
CREATED:20191007T033832Z
LAST-MODIFIED:20191007T033832Z
UID:474782-1573068600-1573075800@urbanmilwaukee.com
SUMMARY:Ex Fabula StorySlam: Goodbyes
DESCRIPTION:Ex Fabula StorySlams connect Milwaukee through true\, personal stories. No props\, no notes – just real stories told by real people. This StorySlam will feature stories related to the theme of Goodbyes: stories of death\, moving and leaving unhealthy situations. \nYou can come just to listen – or\, if you have a story related to the night’s theme and can share it in 5 minutes or less\, throw your name in the hat for a chance to take the stage. Another way to share stories is via UltraShorts\, which are brief\, true personal stories written on slips of paper and then read onstage by the emcee. At the end of the night\, the audience votes and an Audience Favorite is crowned! \nPlease note that for Ex Fabula’s monthly StorySlams\, doors open at 6:30 and seating is General Admission. Stories may contain adult content and some venues are 21+. \nTickets: $10 online\, $12 at the door \n
URL:https://urbanmilwaukee.com/event/ex-fabula-storyslam-goodbyes/
LOCATION:441 E. Lincoln Ave.\, Milwaukee\, WI\, 53207\, United States
CATEGORIES:Arts & Entertainment
ATTACH;FMTTYPE=image/png:https://urbanmilwaukee.com/wp-content/uploads/2019/09/EX_fabula_logo-01-1.png
END:VEVENT
END:VCALENDAR