BEGIN:VCALENDAR
VERSION:2.0
PRODID:-//Urban Milwaukee - ECPv4.6.9//NONSGML v1.0//EN
CALSCALE:GREGORIAN
METHOD:PUBLISH
X-WR-CALNAME:Urban Milwaukee
X-ORIGINAL-URL:https://urbanmilwaukee.com
X-WR-CALDESC:Events for Urban Milwaukee
BEGIN:VEVENT
DTSTART;TZID=America/Chicago:20191117T130000
DTEND;TZID=America/Chicago:20191117T150000
DTSTAMP:20260422T074004
CREATED:20191102T140737Z
LAST-MODIFIED:20191102T140737Z
UID:482644-1573995600-1574002800@urbanmilwaukee.com
SUMMARY:Ex Fabula StorySlam: Food
DESCRIPTION:Ex Fabula StorySlams connect Milwaukee through true\, personal stories. No props\, no notes – just real stories told by real people. This StorySlam will feature stories related to the theme of Food: stories of culture\, cooking disasters and hunger. \nYou can come just to listen – or\, if you have a story related to the theme and can share it in 5 minutes or less\, throw your name in the hat for a chance to take the stage. Another way to share stories is via UltraShorts\, which are brief\, true personal stories written on slips of paper and then read onstage by the emcee. This is a non competitive\, ALL AGES StorySlam! \nPlease note that stories may contain adult content and some venues are 21+. \nTicket Price: $10 in advance\, $12 at the door \n
URL:https://urbanmilwaukee.com/event/ex-fabula-storyslam-food/
LOCATION:5906 W. Vliet St.\, Milwaukee\, WI\, 53208\, United States
CATEGORIES:Arts & Entertainment,Food & Drink
ATTACH;FMTTYPE=image/jpeg:https://urbanmilwaukee.com/wp-content/uploads/2019/10/FOOD.jpg
END:VEVENT
END:VCALENDAR