BEGIN:VCALENDAR
VERSION:2.0
PRODID:-//Urban Milwaukee - ECPv4.6.9//NONSGML v1.0//EN
CALSCALE:GREGORIAN
METHOD:PUBLISH
X-WR-CALNAME:Urban Milwaukee
X-ORIGINAL-URL:https://urbanmilwaukee.com
X-WR-CALDESC:Events for Urban Milwaukee
BEGIN:VEVENT
DTSTART;TZID=America/Chicago:20200917T190000
DTEND;TZID=America/Chicago:20200917T210000
DTSTAMP:20260424T075207
CREATED:20200910T185733Z
LAST-MODIFIED:20200910T185733Z
UID:543064-1600369200-1600376400@urbanmilwaukee.com
SUMMARY:Ex Fabula Presents: Virtual StorySlam "Reimagining Love"
DESCRIPTION:StorySlam: ‘Love’\nstories of unions\, living together\, romance\, self-care\, dating\, make ups\, break ups and more.\nThursday\, September 17th\nCompetitive\n6:30p.m. entry\, 7 p.m. stories\nEvent sponsor: Milwaukee Record \n
URL:https://urbanmilwaukee.com/event/ex-fabula-presents-virtual-storyslam-reimagining-love/
CATEGORIES:Arts & Entertainment,Virtual
ATTACH;FMTTYPE=image/jpeg:https://urbanmilwaukee.com/wp-content/uploads/2020/09/S12-LOVE-BANNER.jpg
END:VEVENT
END:VCALENDAR