BEGIN:VCALENDAR
VERSION:2.0
PRODID:-//Urban Milwaukee - ECPv4.6.9//NONSGML v1.0//EN
CALSCALE:GREGORIAN
METHOD:PUBLISH
X-WR-CALNAME:Urban Milwaukee
X-ORIGINAL-URL:https://urbanmilwaukee.com
X-WR-CALDESC:Events for Urban Milwaukee
BEGIN:VEVENT
DTSTART;TZID=America/Chicago:20191204T173000
DTEND;TZID=America/Chicago:20191204T200000
DTSTAMP:20260423T114651
CREATED:20191121T105147Z
LAST-MODIFIED:20191121T105147Z
UID:486699-1575480600-1575489600@urbanmilwaukee.com
SUMMARY:Ex Fabula Presents: Black Professionals Workshops
DESCRIPTION:We all have workplace stories! Join Ex Fabula and Black professionals for some unique storytelling experiences at the new Saint Kate Arts Hotel! This series will create brave spaces to share truths about the world of work. These workshops are Black led; experienced storytelling coach Rochelle Fritsch and her team will guide participants through interactive\, small group activities. Each session is free and open to the public\, and will have a different theme – so attend just one or all four. No need to prepare anything in advance. Sign up to come alone or bring a friend\, and make sure to come early or stay a bit afterwards to check out Milwaukee’s new arts hotel! \n-What to expect- \nRefine existing stories or create structured stories around being a Black professional in the workplace.\nIdentify opportunities to tell these stories to a racially diverse audience.\nTell stories one-on-one and in groups.\nFeel more confident in storytelling.\nNetwork with a great group of Black professionals.\nWorkshop Dates & Themes: \nNovember 13th – Foot In The Door: interviewing while Black – screenings\, ‘ethnic’ names\, and the hiring process. \nNovember 20th – When POC are Workplace Educators: hair\, soul food\, the ‘Hood’ & everything in between. \nDecember 4th – The Nod: supporting each other in the workplace. \nDecember 18th – Beyond The Watercooler and Into The Boardroom: engaging with the right people to be in the right places in white spaces.\nAll workshop times: \n5:30 p.m. check-in\, 6 p.m. to 8 p.m. workshop \n
URL:https://urbanmilwaukee.com/event/ex-fabula-presents-black-professionals-workshops-2/
LOCATION:139 E. Kilbourn Ave.\, Milwaukee\, WI\, 53202\, United States
CATEGORIES:Business
ATTACH;FMTTYPE=image/jpeg:https://urbanmilwaukee.com/wp-content/uploads/2019/11/BLACK-PROF.-SERIES.jpg
END:VEVENT
END:VCALENDAR