BEGIN:VCALENDAR
VERSION:2.0
PRODID:-//Urban Milwaukee - ECPv4.6.9//NONSGML v1.0//EN
CALSCALE:GREGORIAN
METHOD:PUBLISH
X-WR-CALNAME:Urban Milwaukee
X-ORIGINAL-URL:https://urbanmilwaukee.com
X-WR-CALDESC:Events for Urban Milwaukee
BEGIN:VEVENT
DTSTART;TZID=America/Chicago:20151217T193000
DTEND;TZID=America/Chicago:20151217T213000
DTSTAMP:20260424T201425
CREATED:20151130T162137Z
LAST-MODIFIED:20151130T170140Z
UID:147059-1450380600-1450387800@urbanmilwaukee.com
SUMMARY:Ex Fabula December Spectacular StorySlam. Theme: "Never Again"
DESCRIPTION:Ex Fabula’s StorySlams are the ultimate in feel-good entertainment. The last 3 monthly events have sold out\, but fortunately this event is in a larger venue so it’s the perfect time to check out Ex Fabula and hear true\, personal stories from Milwaukeeans just like you. While you’re at it\, you’ll be strengthening community bonds and falling in love with the city just a little bit more. \nThe Ex Fabula Spectacular is a special noncompetitive StorySlam with new\, longer stories from storytellers chosen by a jury of Ex Fabula volunteers. Features tellers who shared compelling stories at regular season Slams alongside tellers from community partnerships. \nDoors open at 6:30 pm and seating is General Admission. \n
URL:https://urbanmilwaukee.com/event/ex-fabula-december-spectacular-storyslam-theme-never-again/
LOCATION:1034 N. 4th St.\, Milwaukee\, WI\, 53203\, United States
CATEGORIES:Arts & Entertainment
ATTACH;FMTTYPE=image/jpeg:https://urbanmilwaukee.com/wp-content/uploads/2015/11/Spectacular-online.jpeg
END:VEVENT
END:VCALENDAR