BEGIN:VCALENDAR
VERSION:2.0
PRODID:-//Urban Milwaukee - ECPv4.6.9//NONSGML v1.0//EN
CALSCALE:GREGORIAN
METHOD:PUBLISH
X-WR-CALNAME:Urban Milwaukee
X-ORIGINAL-URL:https://urbanmilwaukee.com
X-WR-CALDESC:Events for Urban Milwaukee
BEGIN:VEVENT
DTSTART;TZID=America/Chicago:20190502T193000
DTEND;TZID=America/Chicago:20190502T213000
DTSTAMP:20260421T081022
CREATED:20190425T152840Z
LAST-MODIFIED:20190425T152840Z
UID:451656-1556825400-1556832600@urbanmilwaukee.com
SUMMARY:Ex Fabula ALL-STARS: "Forgiveness"
DESCRIPTION:Ex Fabula’s annual ALL STARS event features community members who were voted “Audience Favorites” at regular season StorySlams; they’ll be returning to the stage to share new\, 10-minute stories on the evening’s theme\, FORGIVENESS. Audience members can also participate in the storytelling by submitting UltraShorts\, which are brief\, true personal stories written on slips of paper and then read onstage by the emcee. Then\, at the end of the night\, the audience votes and crowns a Season 10 Audience Favorite. \n
URL:https://urbanmilwaukee.com/event/ex-fabula-all-stars-forgiveness/
LOCATION:1034 N. 4th St.\, Milwaukee\, WI\, 53203\, United States
CATEGORIES:Arts & Entertainment
ATTACH;FMTTYPE=image/jpeg:https://urbanmilwaukee.com/wp-content/uploads/2019/04/Ex-Fabula-Logo-3.jpg
END:VEVENT
END:VCALENDAR